BEGIN:VCALENDAR
VERSION:2.0
PRODID:-//Het Oogpunt - ECPv6.15.20//NONSGML v1.0//EN
CALSCALE:GREGORIAN
METHOD:PUBLISH
X-WR-CALNAME:Het Oogpunt
X-ORIGINAL-URL:https://hetoogpunt.nl
X-WR-CALDESC:Evenementen voor Het Oogpunt
REFRESH-INTERVAL;VALUE=DURATION:PT1H
X-Robots-Tag:noindex
X-PUBLISHED-TTL:PT1H
BEGIN:VTIMEZONE
TZID:Europe/Amsterdam
BEGIN:DAYLIGHT
TZOFFSETFROM:+0100
TZOFFSETTO:+0200
TZNAME:CEST
DTSTART:20210328T010000
END:DAYLIGHT
BEGIN:STANDARD
TZOFFSETFROM:+0200
TZOFFSETTO:+0100
TZNAME:CET
DTSTART:20211031T010000
END:STANDARD
BEGIN:DAYLIGHT
TZOFFSETFROM:+0100
TZOFFSETTO:+0200
TZNAME:CEST
DTSTART:20220327T010000
END:DAYLIGHT
BEGIN:STANDARD
TZOFFSETFROM:+0200
TZOFFSETTO:+0100
TZNAME:CET
DTSTART:20221030T010000
END:STANDARD
BEGIN:DAYLIGHT
TZOFFSETFROM:+0100
TZOFFSETTO:+0200
TZNAME:CEST
DTSTART:20230326T010000
END:DAYLIGHT
BEGIN:STANDARD
TZOFFSETFROM:+0200
TZOFFSETTO:+0100
TZNAME:CET
DTSTART:20231029T010000
END:STANDARD
END:VTIMEZONE
BEGIN:VEVENT
DTSTART;TZID=Europe/Amsterdam:20220513T100000
DTEND;TZID=Europe/Amsterdam:20220513T170000
DTSTAMP:20260419T200423
CREATED:20220115T183959Z
LAST-MODIFIED:20220509T075908Z
UID:637-1652436000-1652461200@hetoogpunt.nl
SUMMARY:Ontdek de wijsheid van het lichaam
DESCRIPTION:Ontdek de verborgen wijsheid van jouw lichaam! \n\nEen ervaringsgerichte dag ondersteund met theorie en direct toepasbaar.\n\n\nOntdek je eigen bewegingsidioom aan de hand van lichaamsgerichte interventies. \n\n\nJe lichaamshouding toont je levenshouding en door beweging ervaar je je eigen ingesleten patronen\, familiedynamieken of belemmerende overtuigingen zodat je ze kunt onderzoeken en transformeren en meer vanuit je kern/je natuurlijke zelf kunt leven. \n\n\nJe gaat ontdekken hoe je gebruik kunt maken van de koppeling tussen gesproken taal en lichaamstaal.\n\n\nDe interventies uit de introductiedag zijn direct toepasbaar in de eigen praktijk. \n\nDe introductiedag is een voorproefje voor de Wijsheid van het Lichaam-zomerweek van 21 t/m 24 juli 2022 maar is ook als inspirerende\, losse workshop te volgen.
URL:https://hetoogpunt.nl/agenda-item/ontdek-de-wijsheid-van-het-lichaam-2/
LOCATION:Vidarte\, Bosscheweg 2A\, Vught\, Nederland
ATTACH;FMTTYPE=image/png:https://hetoogpunt.nl/wp-content/uploads/2018/02/Coachtrajecten-e1694276245241.png
END:VEVENT
BEGIN:VEVENT
DTSTART;TZID=Europe/Amsterdam:20220409T100000
DTEND;TZID=Europe/Amsterdam:20220409T170000
DTSTAMP:20260419T200423
CREATED:20220111T183403Z
LAST-MODIFIED:20220210T190317Z
UID:632-1649498400-1649523600@hetoogpunt.nl
SUMMARY:Ontdek de wijsheid van het lichaam
DESCRIPTION:Ontdek de verborgen wijsheid van jouw lichaam! \n\nEen ervaringsgerichte dag ondersteund met theorie en direct toepasbaar.\n\n\nOntdek je eigen bewegingsidioom aan de hand van lichaamsgerichte interventies. \n\n\nJe lichaamshouding toont je levenshouding en door beweging ervaar je je eigen ingesleten patronen\, familiedynamieken of belemmerende overtuigingen zodat je ze kunt onderzoeken en transformeren en meer vanuit je kern/je natuurlijke zelf kunt leven. \n\n\nJe gaat ontdekken hoe je gebruik kunt maken van de koppeling tussen gesproken taal en lichaamstaal.\n\n\nDe interventies uit de introductiedag zijn direct toepasbaar in de eigen praktijk. \n\nDe introductiedag is een voorproefje voor de Wijsheid van het Lichaam-zomerweek van 21 t/m 24 juli 2022 maar is ook als inspirerende\, losse workshop te volgen.
URL:https://hetoogpunt.nl/agenda-item/ontdek-de-wijsheid-van-het-lichaam/
LOCATION:Vidarte\, Bosscheweg 2A\, Vught\, Nederland
ATTACH;FMTTYPE=image/png:https://hetoogpunt.nl/wp-content/uploads/2018/02/Coachtrajecten-e1694276245241.png
END:VEVENT
BEGIN:VEVENT
DTSTART;TZID=Europe/Amsterdam:20220408T064500
DTEND;TZID=Europe/Amsterdam:20220408T110000
DTSTAMP:20260419T200423
CREATED:20220216T144546Z
LAST-MODIFIED:20220216T144738Z
UID:671-1649400300-1649415600@hetoogpunt.nl
SUMMARY:Light trail- Beweeg je vrij
DESCRIPTION:BEWEEG JE VRIJ\n\n\n\nMaak je lijf wakker\, voed je zintuigen en verruim je geest: lekker actief op pad! In een Light Trail ervaar je bewegingsvrijheid en verbinding in de natuur. Vanaf zonsopgang gaan we in beweging over de prachtige Utrechtse Heuvelrug: onderweg is er ruimte voor lichaamsbewustzijn en reflectie. In iedere editie verkennen we een ander thema\, in afstemming met jouw intentie en het seizoen.\n\n\n\nLight Trail\n06.45 | Verzamelen bij het vertrekpunt\n07.00 | Welkom bij zonsopgang\n07.15 | Light Trail met oefening en reflectie onderweg\n10.30 | Afsluiting\nVolg deze link voor meer info en inschrijven
URL:https://hetoogpunt.nl/agenda-item/light-trail-beweeg-je-vrij/
LOCATION:Utrechtse Heuvelrug
END:VEVENT
END:VCALENDAR